BEGIN:VCALENDAR
VERSION:2.0
PRODID:-//Seattle Food Committee - ECPv6.15.20//NONSGML v1.0//EN
CALSCALE:GREGORIAN
METHOD:PUBLISH
X-ORIGINAL-URL:https://www.seattlefoodcommittee.org
X-WR-CALDESC:Events for Seattle Food Committee
REFRESH-INTERVAL;VALUE=DURATION:PT1H
X-Robots-Tag:noindex
X-PUBLISHED-TTL:PT1H
BEGIN:VTIMEZONE
TZID:America/Los_Angeles
BEGIN:DAYLIGHT
TZOFFSETFROM:-0800
TZOFFSETTO:-0700
TZNAME:PDT
DTSTART:20230312T100000
END:DAYLIGHT
BEGIN:STANDARD
TZOFFSETFROM:-0700
TZOFFSETTO:-0800
TZNAME:PST
DTSTART:20231105T090000
END:STANDARD
BEGIN:DAYLIGHT
TZOFFSETFROM:-0800
TZOFFSETTO:-0700
TZNAME:PDT
DTSTART:20240310T100000
END:DAYLIGHT
BEGIN:STANDARD
TZOFFSETFROM:-0700
TZOFFSETTO:-0800
TZNAME:PST
DTSTART:20241103T090000
END:STANDARD
BEGIN:DAYLIGHT
TZOFFSETFROM:-0800
TZOFFSETTO:-0700
TZNAME:PDT
DTSTART:20250309T100000
END:DAYLIGHT
BEGIN:STANDARD
TZOFFSETFROM:-0700
TZOFFSETTO:-0800
TZNAME:PST
DTSTART:20251102T090000
END:STANDARD
END:VTIMEZONE
BEGIN:VEVENT
DTSTART;TZID=America/Los_Angeles:20240112T170000
DTEND;TZID=America/Los_Angeles:20240112T190000
DTSTAMP:20260425T063719
CREATED:20240108T194724Z
LAST-MODIFIED:20240108T194815Z
UID:1143-1705078800-1705086000@www.seattlefoodcommittee.org
SUMMARY:White Center Food Bank - Grand Opening for New Location!
DESCRIPTION:Join White Center Food Bank for one of the most significant milestones in our organization’s history: THE GRAND OPENING of our new home! \nWith the support of our community\, we now own a newly remodeled\, centrally located facility right in the heart of downtown White Center. \nCome celebrate with us\, including a ceremonial ribbon cutting\, guest speakers\, music\, food\, drinks and more! \nRSVP using this link: White Center Food Bank Grand Opening (google.com)
URL:https://www.seattlefoodcommittee.org/event/white-center-food-bank-grand-opening-for-new-location/
LOCATION:White Center Food Bank\, 10016 16th Ave SW\, Seattle\, WA\, 98146\, United States
END:VEVENT
END:VCALENDAR