BEGIN:VCALENDAR
VERSION:2.0
PRODID:-//Seattle Food Committee - ECPv6.15.20//NONSGML v1.0//EN
CALSCALE:GREGORIAN
METHOD:PUBLISH
X-WR-CALNAME:Seattle Food Committee
X-ORIGINAL-URL:https://www.seattlefoodcommittee.org
X-WR-CALDESC:Events for Seattle Food Committee
REFRESH-INTERVAL;VALUE=DURATION:PT1H
X-Robots-Tag:noindex
X-PUBLISHED-TTL:PT1H
BEGIN:VTIMEZONE
TZID:America/Los_Angeles
BEGIN:DAYLIGHT
TZOFFSETFROM:-0800
TZOFFSETTO:-0700
TZNAME:PDT
DTSTART:20210314T100000
END:DAYLIGHT
BEGIN:STANDARD
TZOFFSETFROM:-0700
TZOFFSETTO:-0800
TZNAME:PST
DTSTART:20211107T090000
END:STANDARD
BEGIN:DAYLIGHT
TZOFFSETFROM:-0800
TZOFFSETTO:-0700
TZNAME:PDT
DTSTART:20220313T100000
END:DAYLIGHT
BEGIN:STANDARD
TZOFFSETFROM:-0700
TZOFFSETTO:-0800
TZNAME:PST
DTSTART:20221106T090000
END:STANDARD
BEGIN:DAYLIGHT
TZOFFSETFROM:-0800
TZOFFSETTO:-0700
TZNAME:PDT
DTSTART:20230312T100000
END:DAYLIGHT
BEGIN:STANDARD
TZOFFSETFROM:-0700
TZOFFSETTO:-0800
TZNAME:PST
DTSTART:20231105T090000
END:STANDARD
END:VTIMEZONE
BEGIN:VEVENT
DTSTART;TZID=America/Los_Angeles:20220411T093000
DTEND;TZID=America/Los_Angeles:20220411T110000
DTSTAMP:20260423T031238
CREATED:20220318T202225Z
LAST-MODIFIED:20220318T214419Z
UID:417-1649669400-1649674800@www.seattlefoodcommittee.org
SUMMARY:Seattle Food Committee General Meeting
DESCRIPTION:Every month the Seattle Food Committee holds general meetings. These are open to the public. If you’re interested in watching a meeting\, please reach out to SFC@solid-ground.org and we will email you the link.
URL:https://www.seattlefoodcommittee.org/event/seattle-food-committee-general-meetings/
LOCATION:Virtual Event
END:VEVENT
BEGIN:VEVENT
DTSTART;TZID=America/Los_Angeles:20220324T090000
DTEND;TZID=America/Los_Angeles:20220324T163000
DTSTAMP:20260423T031238
CREATED:20220318T203615Z
LAST-MODIFIED:20220318T204336Z
UID:419-1648112400-1648139400@www.seattlefoodcommittee.org
SUMMARY:2022 Regional Mass Care Forum
DESCRIPTION:Free forum for individuals and organizations supporting Mass Care efforts (sheltering\, feeding\, distribution of emergency supplies) in the King\, Pierce\, and Snohomish County area\nAmerican Sign Language and Communication Access and Real-time Translation provided\nRegister here\nFor questions please contact Tom Sharp at King County Emergency Management: tsharp@kingcounty.org
URL:https://www.seattlefoodcommittee.org/event/2022-regional-mass-care-forum/
LOCATION:Virtual Forum
END:VEVENT
END:VCALENDAR