BEGIN:VCALENDAR
VERSION:2.0
PRODID:-//Seattle Food Committee - ECPv6.15.20//NONSGML v1.0//EN
CALSCALE:GREGORIAN
METHOD:PUBLISH
X-WR-CALNAME:Seattle Food Committee
X-ORIGINAL-URL:https://www.seattlefoodcommittee.org
X-WR-CALDESC:Events for Seattle Food Committee
REFRESH-INTERVAL;VALUE=DURATION:PT1H
X-Robots-Tag:noindex
X-PUBLISHED-TTL:PT1H
BEGIN:VTIMEZONE
TZID:America/Los_Angeles
BEGIN:DAYLIGHT
TZOFFSETFROM:-0800
TZOFFSETTO:-0700
TZNAME:PDT
DTSTART:20220313T100000
END:DAYLIGHT
BEGIN:STANDARD
TZOFFSETFROM:-0700
TZOFFSETTO:-0800
TZNAME:PST
DTSTART:20221106T090000
END:STANDARD
BEGIN:DAYLIGHT
TZOFFSETFROM:-0800
TZOFFSETTO:-0700
TZNAME:PDT
DTSTART:20230312T100000
END:DAYLIGHT
BEGIN:STANDARD
TZOFFSETFROM:-0700
TZOFFSETTO:-0800
TZNAME:PST
DTSTART:20231105T090000
END:STANDARD
BEGIN:DAYLIGHT
TZOFFSETFROM:-0800
TZOFFSETTO:-0700
TZNAME:PDT
DTSTART:20240310T100000
END:DAYLIGHT
BEGIN:STANDARD
TZOFFSETFROM:-0700
TZOFFSETTO:-0800
TZNAME:PST
DTSTART:20241103T090000
END:STANDARD
END:VTIMEZONE
BEGIN:VEVENT
DTSTART;TZID=America/Los_Angeles:20231208T100000
DTEND;TZID=America/Los_Angeles:20231208T140000
DTSTAMP:20260425T063616
CREATED:20231201T181419Z
LAST-MODIFIED:20231201T181419Z
UID:1093-1702029600-1702044000@www.seattlefoodcommittee.org
SUMMARY:Mobile Medical Van at St. Vincent de Paul
DESCRIPTION:Are you…\n• living on the streets\, in a camp\, in a vehicle\, or in a shelter?\n• “couch surfing” or staying with family or friends\, not on the lease?\n• living in transitional housing?\n• Or\, have you been homeless in the past year? \nIf so\, the Mobile Medical Program is for you!\nOn-site the mobile medical team offers:\n• Doctor and nurse visits for acute and chronic conditions\n• STD\, HIV and Hepatitis C testing\n• Pregnancy tests and birth control\n• Access to behavioral health and substance use specialists\n• Naloxone overdose prevention training and kits\n• Dental care for pain and emergency conditions on select days \nWe can also help you connect to:\n• A doctor’s office that can provide follow-up care\n• Mental health counseling\n• Substance use counseling via a harm reduction approach\n• Enrollment into ORCA Lift transportation assistance\n• Referrals to shelter\, food\, benefits\, legal and domestic violence\nprograms \nOur mission is to build relationships with people experiencing homelessness by providing patient-centered health and social services\, meeting people where they are\, and fostering health and well-being. \nThe Mobile Medical Program is funded by the King County Veterans\, Seniors\, and Human Services Levy and the City of Seattle Human Services Department. \nVisit us at www.kingcounty.gov/mobilemed
URL:https://www.seattlefoodcommittee.org/event/mobile-medical-van-at-st-vincent-de-paul/
LOCATION:St. Vincent de Paul Food Bank\, 5972 4th Ave S\, Seattle\, WA\, 98108\, United States
END:VEVENT
BEGIN:VEVENT
DTSTART;TZID=America/Los_Angeles:20231211T093000
DTEND;TZID=America/Los_Angeles:20231211T110000
DTSTAMP:20260425T063616
CREATED:20230125T161337Z
LAST-MODIFIED:20230125T161337Z
UID:726-1702287000-1702292400@www.seattlefoodcommittee.org
SUMMARY:Seattle Food Committee General Meeting
DESCRIPTION:Every month the Seattle Food Committee holds general meetings. These are open to the public. If you’re interested in watching a meeting\, please reach out to SFC@solid-ground.org and we will email you the link.
URL:https://www.seattlefoodcommittee.org/event/seattle-food-committee-general-meeting-12/
LOCATION:WA
END:VEVENT
BEGIN:VEVENT
DTSTART;TZID=America/Los_Angeles:20231220T100000
DTEND;TZID=America/Los_Angeles:20231220T140000
DTSTAMP:20260425T063616
CREATED:20231201T181851Z
LAST-MODIFIED:20231201T181851Z
UID:1095-1703066400-1703080800@www.seattlefoodcommittee.org
SUMMARY:Mobile Medical Van at Ballard Food Bank
DESCRIPTION:Are you…\n• living on the streets\, in a camp\, in a vehicle\, or in a shelter?\n• “couch surfing” or staying with family or friends\, not on the lease?\n• living in transitional housing?\n• Or\, have you been homeless in the past year? \nIf so\, the Mobile Medical Program is for you!\nOn-site the mobile medical team offers:\n• Doctor and nurse visits for acute and chronic conditions\n• STD\, HIV and Hepatitis C testing\n• Pregnancy tests and birth control\n• Access to behavioral health and substance use specialists\n• Naloxone overdose prevention training and kits\n• Dental care for pain and emergency conditions on select days \nWe can also help you connect to:\n• A doctor’s office that can provide follow-up care\n• Mental health counseling\n• Substance use counseling via a harm reduction approach\n• Enrollment into ORCA Lift transportation assistance\n• Referrals to shelter\, food\, benefits\, legal and domestic violence\nprograms \nOur mission is to build relationships with people experiencing homelessness by providing patient-centered health and social services\, meeting people where they are\, and fostering health and well-being. \nThe Mobile Medical Program is funded by the King County Veterans\, Seniors\, and Human Services Levy and the City of Seattle Human Services Department. \nVisit us at www.kingcounty.gov/mobilemed
URL:https://www.seattlefoodcommittee.org/event/mobile-medical-van-at-ballard-food-bank-2/
LOCATION:Ballard Food Bank\, 1400 Leary Wy NW\, Seattle\, Seattle\, WA\, 98107\, United States
END:VEVENT
BEGIN:VEVENT
DTSTART;TZID=America/Los_Angeles:20231222T100000
DTEND;TZID=America/Los_Angeles:20231222T140000
DTSTAMP:20260425T063616
CREATED:20231201T182805Z
LAST-MODIFIED:20231201T182805Z
UID:1097-1703239200-1703253600@www.seattlefoodcommittee.org
SUMMARY:Mobile Medical Van at St. Vincent de Paul
DESCRIPTION:Are you…\n• living on the streets\, in a camp\, in a vehicle\, or in a shelter?\n• “couch surfing” or staying with family or friends\, not on the lease?\n• living in transitional housing?\n• Or\, have you been homeless in the past year? \nIf so\, the Mobile Medical Program is for you!\nOn-site the mobile medical team offers:\n• Doctor and nurse visits for acute and chronic conditions\n• STD\, HIV and Hepatitis C testing\n• Pregnancy tests and birth control\n• Access to behavioral health and substance use specialists\n• Naloxone overdose prevention training and kits\n• Dental care for pain and emergency conditions on select days \nWe can also help you connect to:\n• A doctor’s office that can provide follow-up care\n• Mental health counseling\n• Substance use counseling via a harm reduction approach\n• Enrollment into ORCA Lift transportation assistance\n• Referrals to shelter\, food\, benefits\, legal and domestic violence\nprograms \nOur mission is to build relationships with people experiencing homelessness by providing patient-centered health and social services\, meeting people where they are\, and fostering health and well-being. \nThe Mobile Medical Program is funded by the King County Veterans\, Seniors\, and Human Services Levy and the City of Seattle Human Services Department. \nVisit us at www.kingcounty.gov/mobilemed
URL:https://www.seattlefoodcommittee.org/event/mobile-medical-van-at-st-vincent-de-paul-2/
LOCATION:St. Vincent de Paul Food Bank\, 5972 4th Ave S\, Seattle\, WA\, 98108\, United States
END:VEVENT
BEGIN:VEVENT
DTSTART;TZID=America/Los_Angeles:20231229T100000
DTEND;TZID=America/Los_Angeles:20231229T140000
DTSTAMP:20260425T063616
CREATED:20231201T184001Z
LAST-MODIFIED:20231201T184001Z
UID:1099-1703844000-1703858400@www.seattlefoodcommittee.org
SUMMARY:Mobile Medical Van at Rainier Valley Food Bank
DESCRIPTION:Are you…\n• living on the streets\, in a camp\, in a vehicle\, or in a shelter?\n• “couch surfing” or staying with family or friends\, not on the lease?\n• living in transitional housing?\n• Or\, have you been homeless in the past year? \nIf so\, the Mobile Medical Program is for you!\nOn-site the mobile medical team offers:\n• Doctor and nurse visits for acute and chronic conditions\n• STD\, HIV and Hepatitis C testing\n• Pregnancy tests and birth control\n• Access to behavioral health and substance use specialists\n• Naloxone overdose prevention training and kits\n• Dental care for pain and emergency conditions on select days \nWe can also help you connect to:\n• A doctor’s office that can provide follow-up care\n• Mental health counseling\n• Substance use counseling via a harm reduction approach\n• Enrollment into ORCA Lift transportation assistance\n• Referrals to shelter\, food\, benefits\, legal and domestic violence\nprograms \nOur mission is to build relationships with people experiencing homelessness by providing patient-centered health and social services\, meeting people where they are\, and fostering health and well-being. \nThe Mobile Medical Program is funded by the King County Veterans\, Seniors\, and Human Services Levy and the City of Seattle Human Services Department. \nVisit us at www.kingcounty.gov/mobilemed
URL:https://www.seattlefoodcommittee.org/event/mobile-medical-van-at-rainier-valley-food-bank-2/
LOCATION:Rainier Valley Food Bank\, 9021 Rainier Ave South\, Seattle\, WA\, 98118\, United States
END:VEVENT
END:VCALENDAR