BEGIN:VCALENDAR
VERSION:2.0
PRODID:-//Seattle Food Committee - ECPv6.15.20//NONSGML v1.0//EN
CALSCALE:GREGORIAN
METHOD:PUBLISH
X-WR-CALNAME:Seattle Food Committee
X-ORIGINAL-URL:https://www.seattlefoodcommittee.org
X-WR-CALDESC:Events for Seattle Food Committee
REFRESH-INTERVAL;VALUE=DURATION:PT1H
X-Robots-Tag:noindex
X-PUBLISHED-TTL:PT1H
BEGIN:VTIMEZONE
TZID:America/Los_Angeles
BEGIN:DAYLIGHT
TZOFFSETFROM:-0800
TZOFFSETTO:-0700
TZNAME:PDT
DTSTART:20230312T100000
END:DAYLIGHT
BEGIN:STANDARD
TZOFFSETFROM:-0700
TZOFFSETTO:-0800
TZNAME:PST
DTSTART:20231105T090000
END:STANDARD
BEGIN:DAYLIGHT
TZOFFSETFROM:-0800
TZOFFSETTO:-0700
TZNAME:PDT
DTSTART:20240310T100000
END:DAYLIGHT
BEGIN:STANDARD
TZOFFSETFROM:-0700
TZOFFSETTO:-0800
TZNAME:PST
DTSTART:20241103T090000
END:STANDARD
BEGIN:DAYLIGHT
TZOFFSETFROM:-0800
TZOFFSETTO:-0700
TZNAME:PDT
DTSTART:20250309T100000
END:DAYLIGHT
BEGIN:STANDARD
TZOFFSETFROM:-0700
TZOFFSETTO:-0800
TZNAME:PST
DTSTART:20251102T090000
END:STANDARD
END:VTIMEZONE
BEGIN:VEVENT
DTSTART;TZID=America/Los_Angeles:20240105T100000
DTEND;TZID=America/Los_Angeles:20240105T140000
DTSTAMP:20260423T005940
CREATED:20240108T193120Z
LAST-MODIFIED:20240108T193120Z
UID:1141-1704448800-1704463200@www.seattlefoodcommittee.org
SUMMARY:Mobile Medical Van at St. Vincent de Paul
DESCRIPTION:Are you…\n• living on the streets\, in a camp\, in a vehicle\, or in a shelter?\n• “couch surfing” or staying with family or friends\, not on the lease?\n• living in transitional housing?\n• Or\, have you been homeless in the past year? \nIf so\, the Mobile Medical Program is for you!\nOn-site the mobile medical team offers:\n• Doctor and nurse visits for acute and chronic conditions\n• STD\, HIV and Hepatitis C testing\n• Pregnancy tests and birth control\n• Access to behavioral health and substance use specialists\n• Naloxone overdose prevention training and kits\n• Dental care for pain and emergency conditions on select days \nWe can also help you connect to:\n• A doctor’s office that can provide follow-up care\n• Mental health counseling\n• Substance use counseling via a harm reduction approach\n• Enrollment into ORCA Lift transportation assistance\n• Referrals to shelter\, food\, benefits\, legal and domestic violence\nprograms \nOur mission is to build relationships with people experiencing homelessness by providing patient-centered health and social services\, meeting people where they are\, and fostering health and well-being. \nThe Mobile Medical Program is funded by the King County Veterans\, Seniors\, and Human Services Levy and the City of Seattle Human Services Department. \nVisit us at www.kingcounty.gov/mobilemed
URL:https://www.seattlefoodcommittee.org/event/mobile-medical-van-at-st-vincent-de-paul-4/
LOCATION:St. Vincent de Paul Food Bank\, 5972 4th Ave S\, Seattle\, WA\, 98108\, United States
END:VEVENT
BEGIN:VEVENT
DTSTART;TZID=America/Los_Angeles:20240110T110000
DTEND;TZID=America/Los_Angeles:20240110T150000
DTSTAMP:20260423T005940
CREATED:20240108T190010Z
LAST-MODIFIED:20240108T190010Z
UID:1128-1704884400-1704898800@www.seattlefoodcommittee.org
SUMMARY:Mobile Medical Van at Northwest Harvest
DESCRIPTION:Are you…\n\n\n\n• living on the streets\, in a camp\, in a vehicle\, or in a shelter?\n• “couch surfing” or staying with family or friends\, not on the lease?\n• living in transitional housing?\n• Or\, have you been homeless in the past year? \nIf so\, the Mobile Medical Program is for you!\nOn-site the mobile medical team offers:\n• Doctor and nurse visits for acute and chronic conditions\n• STD\, HIV and Hepatitis C testing\n• Pregnancy tests and birth control\n• Access to behavioral health and substance use specialists\n• Naloxone overdose prevention training and kits\n• Dental care for pain and emergency conditions on select days \nWe can also help you connect to:\n• A doctor’s office that can provide follow-up care\n• Mental health counseling\n• Substance use counseling via a harm reduction approach\n• Enrollment into ORCA Lift transportation assistance\n• Referrals to shelter\, food\, benefits\, legal and domestic violence\nprograms \nOur mission is to build relationships with people experiencing homelessness by providing patient-centered health and social services\, meeting people where they are\, and fostering health and well-being. \nThe Mobile Medical Program is funded by the King County Veterans\, Seniors\, and Human Services Levy and the City of Seattle Human Services Department. \nVisit us at www.kingcounty.gov/mobilemed
URL:https://www.seattlefoodcommittee.org/event/mobile-medical-van-at-northwest-harvest-2/
LOCATION:Northwest Harvest\, 1915 4th Ave S\, Seattle\, WA\, 98134\, United States
END:VEVENT
BEGIN:VEVENT
DTSTART;TZID=America/Los_Angeles:20240112T170000
DTEND;TZID=America/Los_Angeles:20240112T190000
DTSTAMP:20260423T005940
CREATED:20240108T194724Z
LAST-MODIFIED:20240108T194815Z
UID:1143-1705078800-1705086000@www.seattlefoodcommittee.org
SUMMARY:White Center Food Bank - Grand Opening for New Location!
DESCRIPTION:Join White Center Food Bank for one of the most significant milestones in our organization’s history: THE GRAND OPENING of our new home! \nWith the support of our community\, we now own a newly remodeled\, centrally located facility right in the heart of downtown White Center. \nCome celebrate with us\, including a ceremonial ribbon cutting\, guest speakers\, music\, food\, drinks and more! \nRSVP using this link: White Center Food Bank Grand Opening (google.com)
URL:https://www.seattlefoodcommittee.org/event/white-center-food-bank-grand-opening-for-new-location/
LOCATION:White Center Food Bank\, 10016 16th Ave SW\, Seattle\, WA\, 98146\, United States
END:VEVENT
BEGIN:VEVENT
DTSTART;TZID=America/Los_Angeles:20240118T100000
DTEND;TZID=America/Los_Angeles:20240118T140000
DTSTAMP:20260423T005940
CREATED:20240108T190731Z
LAST-MODIFIED:20240108T190731Z
UID:1131-1705572000-1705586400@www.seattlefoodcommittee.org
SUMMARY:Mobile Medical Van at Ballard Food Bank
DESCRIPTION:Are you…\n• living on the streets\, in a camp\, in a vehicle\, or in a shelter?\n• “couch surfing” or staying with family or friends\, not on the lease?\n• living in transitional housing?\n• Or\, have you been homeless in the past year? \nIf so\, the Mobile Medical Program is for you!\nOn-site the mobile medical team offers:\n• Doctor and nurse visits for acute and chronic conditions\n• STD\, HIV and Hepatitis C testing\n• Pregnancy tests and birth control\n• Access to behavioral health and substance use specialists\n• Naloxone overdose prevention training and kits\n• Dental care for pain and emergency conditions on select days \nWe can also help you connect to:\n• A doctor’s office that can provide follow-up care\n• Mental health counseling\n• Substance use counseling via a harm reduction approach\n• Enrollment into ORCA Lift transportation assistance\n• Referrals to shelter\, food\, benefits\, legal and domestic violence\nprograms \nOur mission is to build relationships with people experiencing homelessness by providing patient-centered health and social services\, meeting people where they are\, and fostering health and well-being. \nThe Mobile Medical Program is funded by the King County Veterans\, Seniors\, and Human Services Levy and the City of Seattle Human Services Department. \nVisit us at www.kingcounty.gov/mobilemed
URL:https://www.seattlefoodcommittee.org/event/mobile-medical-van-at-ballard-food-bank-3/
LOCATION:Ballard Food Bank\, 1400 Leary Wy NW\, Seattle\, Seattle\, WA\, 98107\, United States
END:VEVENT
BEGIN:VEVENT
DTSTART;TZID=America/Los_Angeles:20240119T100000
DTEND;TZID=America/Los_Angeles:20240119T140000
DTSTAMP:20260423T005940
CREATED:20240108T192352Z
LAST-MODIFIED:20240108T192352Z
UID:1133-1705658400-1705672800@www.seattlefoodcommittee.org
SUMMARY:Mobile Medical Van at St. Vincent de Paul
DESCRIPTION:Are you…\n• living on the streets\, in a camp\, in a vehicle\, or in a shelter?\n• “couch surfing” or staying with family or friends\, not on the lease?\n• living in transitional housing?\n• Or\, have you been homeless in the past year? \nIf so\, the Mobile Medical Program is for you!\nOn-site the mobile medical team offers:\n• Doctor and nurse visits for acute and chronic conditions\n• STD\, HIV and Hepatitis C testing\n• Pregnancy tests and birth control\n• Access to behavioral health and substance use specialists\n• Naloxone overdose prevention training and kits\n• Dental care for pain and emergency conditions on select days \nWe can also help you connect to:\n• A doctor’s office that can provide follow-up care\n• Mental health counseling\n• Substance use counseling via a harm reduction approach\n• Enrollment into ORCA Lift transportation assistance\n• Referrals to shelter\, food\, benefits\, legal and domestic violence\nprograms \nOur mission is to build relationships with people experiencing homelessness by providing patient-centered health and social services\, meeting people where they are\, and fostering health and well-being. \nThe Mobile Medical Program is funded by the King County Veterans\, Seniors\, and Human Services Levy and the City of Seattle Human Services Department. \nVisit us at www.kingcounty.gov/mobilemed
URL:https://www.seattlefoodcommittee.org/event/mobile-medical-van-at-st-vincent-de-paul-3/
LOCATION:St. Vincent de Paul Food Bank\, 5972 4th Ave S\, Seattle\, WA\, 98108\, United States
END:VEVENT
BEGIN:VEVENT
DTSTART;TZID=America/Los_Angeles:20240122T093000
DTEND;TZID=America/Los_Angeles:20240122T110000
DTSTAMP:20260423T005940
CREATED:20240102T162745Z
LAST-MODIFIED:20240102T164031Z
UID:1103-1705915800-1705921200@www.seattlefoodcommittee.org
SUMMARY:Seattle Food Committee General Meeting
DESCRIPTION:Every month the Seattle Food Committee holds general meetings. These are open to the public. If you’re interested in watching a meeting\, please reach out to SFC@solid-ground.org and we will email you the link.
URL:https://www.seattlefoodcommittee.org/event/seattle-food-committee-general-meeting-13/
LOCATION:WA
END:VEVENT
BEGIN:VEVENT
DTSTART;TZID=America/Los_Angeles:20240126T100000
DTEND;TZID=America/Los_Angeles:20240126T140000
DTSTAMP:20260423T005940
CREATED:20240108T192552Z
LAST-MODIFIED:20240108T192552Z
UID:1136-1706263200-1706277600@www.seattlefoodcommittee.org
SUMMARY:Mobile Medical Van at Rainier Valley Food Bank
DESCRIPTION:Are you…\n• living on the streets\, in a camp\, in a vehicle\, or in a shelter?\n• “couch surfing” or staying with family or friends\, not on the lease?\n• living in transitional housing?\n• Or\, have you been homeless in the past year? \nIf so\, the Mobile Medical Program is for you!\nOn-site the mobile medical team offers:\n• Doctor and nurse visits for acute and chronic conditions\n• STD\, HIV and Hepatitis C testing\n• Pregnancy tests and birth control\n• Access to behavioral health and substance use specialists\n• Naloxone overdose prevention training and kits\n• Dental care for pain and emergency conditions on select days \nWe can also help you connect to:\n• A doctor’s office that can provide follow-up care\n• Mental health counseling\n• Substance use counseling via a harm reduction approach\n• Enrollment into ORCA Lift transportation assistance\n• Referrals to shelter\, food\, benefits\, legal and domestic violence\nprograms \nOur mission is to build relationships with people experiencing homelessness by providing patient-centered health and social services\, meeting people where they are\, and fostering health and well-being. \nThe Mobile Medical Program is funded by the King County Veterans\, Seniors\, and Human Services Levy and the City of Seattle Human Services Department. \nVisit us at www.kingcounty.gov/mobilemed
URL:https://www.seattlefoodcommittee.org/event/mobile-medical-van-at-rainier-valley-food-bank-3/
LOCATION:Rainier Valley Food Bank\, 9021 Rainier Ave South\, Seattle\, WA\, 98118\, United States
END:VEVENT
END:VCALENDAR